BEGIN:VCALENDAR
VERSION:2.0
PRODID:-//rncontractingsolutions - ECPv6.15.20//NONSGML v1.0//EN
CALSCALE:GREGORIAN
METHOD:PUBLISH
X-WR-CALNAME:rncontractingsolutions
X-ORIGINAL-URL:https://rncontractingsolutions.com
X-WR-CALDESC:Events for rncontractingsolutions
REFRESH-INTERVAL;VALUE=DURATION:PT1H
X-Robots-Tag:noindex
X-PUBLISHED-TTL:PT1H
BEGIN:VTIMEZONE
TZID:America/New_York
BEGIN:DAYLIGHT
TZOFFSETFROM:-0500
TZOFFSETTO:-0400
TZNAME:EDT
DTSTART:20250309T070000
END:DAYLIGHT
BEGIN:STANDARD
TZOFFSETFROM:-0400
TZOFFSETTO:-0500
TZNAME:EST
DTSTART:20251102T060000
END:STANDARD
BEGIN:DAYLIGHT
TZOFFSETFROM:-0500
TZOFFSETTO:-0400
TZNAME:EDT
DTSTART:20260308T070000
END:DAYLIGHT
BEGIN:STANDARD
TZOFFSETFROM:-0400
TZOFFSETTO:-0500
TZNAME:EST
DTSTART:20261101T060000
END:STANDARD
BEGIN:DAYLIGHT
TZOFFSETFROM:-0500
TZOFFSETTO:-0400
TZNAME:EDT
DTSTART:20270314T070000
END:DAYLIGHT
BEGIN:STANDARD
TZOFFSETFROM:-0400
TZOFFSETTO:-0500
TZNAME:EST
DTSTART:20271107T060000
END:STANDARD
END:VTIMEZONE
BEGIN:VEVENT
DTSTART;TZID=America/New_York:20260512T193000
DTEND;TZID=America/New_York:20260714T203000
DTSTAMP:20260419T223457
CREATED:20240822T181019Z
LAST-MODIFIED:20260310T230321Z
UID:104659-1778614200-1784061000@rncontractingsolutions.com
SUMMARY:CFCM Study Group Starting May 12\, 2026
DESCRIPTION:Upgrade your professional development by preparing for the CFCM certification sponsored by the Space Coast  NCMA Chapter.  Join our study group.\nRegistration is available  and space is very limited. Check here  for registration information and additional benefits of this study group
URL:https://rncontractingsolutions.com/event/cfcm-study-group-starting-jan-21-2025/
END:VEVENT
END:VCALENDAR